BEGIN:VCALENDAR
VERSION:2.0
PRODID:-//Cheshire Golf - ECPv6.15.18//NONSGML v1.0//EN
CALSCALE:GREGORIAN
METHOD:PUBLISH
X-ORIGINAL-URL:https://cheshiregolf.org.uk
X-WR-CALDESC:Events for Cheshire Golf
REFRESH-INTERVAL;VALUE=DURATION:PT1H
X-Robots-Tag:noindex
X-PUBLISHED-TTL:PT1H
BEGIN:VTIMEZONE
TZID:Europe/London
BEGIN:DAYLIGHT
TZOFFSETFROM:+0000
TZOFFSETTO:+0100
TZNAME:BST
DTSTART:20230326T010000
END:DAYLIGHT
BEGIN:STANDARD
TZOFFSETFROM:+0100
TZOFFSETTO:+0000
TZNAME:GMT
DTSTART:20231029T010000
END:STANDARD
BEGIN:DAYLIGHT
TZOFFSETFROM:+0000
TZOFFSETTO:+0100
TZNAME:BST
DTSTART:20240331T010000
END:DAYLIGHT
BEGIN:STANDARD
TZOFFSETFROM:+0100
TZOFFSETTO:+0000
TZNAME:GMT
DTSTART:20241027T010000
END:STANDARD
BEGIN:DAYLIGHT
TZOFFSETFROM:+0000
TZOFFSETTO:+0100
TZNAME:BST
DTSTART:20250330T010000
END:DAYLIGHT
BEGIN:STANDARD
TZOFFSETFROM:+0100
TZOFFSETTO:+0000
TZNAME:GMT
DTSTART:20251026T010000
END:STANDARD
END:VTIMEZONE
BEGIN:VEVENT
DTSTART;VALUE=DATE:20240715
DTEND;VALUE=DATE:20240716
DTSTAMP:20260425T221152
CREATED:20231201T104622Z
LAST-MODIFIED:20231201T104622Z
UID:10000147-1721001600-1721087999@cheshiregolf.org.uk
SUMMARY:Seniors Northern Counties League v Yorkshire (away)
DESCRIPTION:
URL:https://cheshiregolf.org.uk/event/seniors-northern-counties-league-v-yorkshire-away/
LOCATION:Dore & Totley Golf Club\, Bradway Road\, Sheffield S17 4QR\, S17 4QR\, United Kingdom
CATEGORIES:Senior Men
GEO:53.3194774;-1.5006196
X-APPLE-STRUCTURED-LOCATION;VALUE=URI;X-ADDRESS=Dore & Totley Golf Club Bradway Road Sheffield S17 4QR S17 4QR United Kingdom;X-APPLE-RADIUS=500;X-TITLE=Bradway Road\, Sheffield S17 4QR:geo:-1.5006196,53.3194774
END:VEVENT
BEGIN:VEVENT
DTSTART;TZID=Europe/London:20240717T000000
DTEND;TZID=Europe/London:20240718T000000
DTSTAMP:20260425T221152
CREATED:20240205T164452Z
LAST-MODIFIED:20240205T165633Z
UID:10000203-1721174400-1721260800@cheshiregolf.org.uk
SUMMARY:Senior Strokeplay Championship
DESCRIPTION:Golf Genius Event Code: unyfzvGolf Genius Event Portal: https://www.golfgenius.com/ggid/unyfzv
URL:https://cheshiregolf.org.uk/event/senior-strokeplay-2024/
LOCATION:Bromborough Golf Club\, Raby Hall Rd\, Birkenhead\, Wirral CH63 0NW\, UK\, United Kingdom
CATEGORIES:Senior Men
GEO:53.3179482;-3.0025618
X-APPLE-STRUCTURED-LOCATION;VALUE=URI;X-ADDRESS=Bromborough Golf Club Raby Hall Rd Birkenhead Wirral CH63 0NW UK United Kingdom;X-APPLE-RADIUS=500;X-TITLE=Raby Hall Rd\, Birkenhead\, Wirral CH63 0NW\, UK:geo:-3.0025618,53.3179482
END:VEVENT
END:VCALENDAR