BEGIN:VCALENDAR
VERSION:2.0
PRODID:-//Cheshire Golf - ECPv6.15.18//NONSGML v1.0//EN
CALSCALE:GREGORIAN
METHOD:PUBLISH
X-ORIGINAL-URL:https://cheshiregolf.org.uk
X-WR-CALDESC:Events for Cheshire Golf
REFRESH-INTERVAL;VALUE=DURATION:PT1H
X-Robots-Tag:noindex
X-PUBLISHED-TTL:PT1H
BEGIN:VTIMEZONE
TZID:Europe/London
BEGIN:DAYLIGHT
TZOFFSETFROM:+0000
TZOFFSETTO:+0100
TZNAME:BST
DTSTART:20230326T010000
END:DAYLIGHT
BEGIN:STANDARD
TZOFFSETFROM:+0100
TZOFFSETTO:+0000
TZNAME:GMT
DTSTART:20231029T010000
END:STANDARD
BEGIN:DAYLIGHT
TZOFFSETFROM:+0000
TZOFFSETTO:+0100
TZNAME:BST
DTSTART:20240331T010000
END:DAYLIGHT
BEGIN:STANDARD
TZOFFSETFROM:+0100
TZOFFSETTO:+0000
TZNAME:GMT
DTSTART:20241027T010000
END:STANDARD
BEGIN:DAYLIGHT
TZOFFSETFROM:+0000
TZOFFSETTO:+0100
TZNAME:BST
DTSTART:20250330T010000
END:DAYLIGHT
BEGIN:STANDARD
TZOFFSETFROM:+0100
TZOFFSETTO:+0000
TZNAME:GMT
DTSTART:20251026T010000
END:STANDARD
END:VTIMEZONE
BEGIN:VEVENT
DTSTART;VALUE=DATE:20240903
DTEND;VALUE=DATE:20240904
DTSTAMP:20260425T205309
CREATED:20231201T105617Z
LAST-MODIFIED:20231201T114209Z
UID:10000178-1725321600-1725407999@cheshiregolf.org.uk
SUMMARY:Seniors v Derbyshire Seniors (home)
DESCRIPTION:
URL:https://cheshiregolf.org.uk/event/seniors-v-derbyshire-seniors-home/
LOCATION:Romiley Golf Club\, Goosehouse Green\, Romiley\, Stockport\, SK6 4LJ
CATEGORIES:Senior Men
GEO:53.4194731;-2.0794372
X-APPLE-STRUCTURED-LOCATION;VALUE=URI;X-ADDRESS=Romiley Golf Club Goosehouse Green Romiley Stockport SK6 4LJ;X-APPLE-RADIUS=500;X-TITLE=Goosehouse Green\, Romiley\, Stockport\, SK6 4LJ:geo:-2.0794372,53.4194731
END:VEVENT
END:VCALENDAR