BEGIN:VCALENDAR
VERSION:2.0
PRODID:-//Cheshire Golf - ECPv6.15.18//NONSGML v1.0//EN
CALSCALE:GREGORIAN
METHOD:PUBLISH
X-ORIGINAL-URL:https://cheshiregolf.org.uk
X-WR-CALDESC:Events for Cheshire Golf
REFRESH-INTERVAL;VALUE=DURATION:PT1H
X-Robots-Tag:noindex
X-PUBLISHED-TTL:PT1H
BEGIN:VTIMEZONE
TZID:Europe/London
BEGIN:DAYLIGHT
TZOFFSETFROM:+0000
TZOFFSETTO:+0100
TZNAME:BST
DTSTART:20240331T010000
END:DAYLIGHT
BEGIN:STANDARD
TZOFFSETFROM:+0100
TZOFFSETTO:+0000
TZNAME:GMT
DTSTART:20241027T010000
END:STANDARD
BEGIN:DAYLIGHT
TZOFFSETFROM:+0000
TZOFFSETTO:+0100
TZNAME:BST
DTSTART:20250330T010000
END:DAYLIGHT
BEGIN:STANDARD
TZOFFSETFROM:+0100
TZOFFSETTO:+0000
TZNAME:GMT
DTSTART:20251026T010000
END:STANDARD
BEGIN:DAYLIGHT
TZOFFSETFROM:+0000
TZOFFSETTO:+0100
TZNAME:BST
DTSTART:20260329T010000
END:DAYLIGHT
BEGIN:STANDARD
TZOFFSETFROM:+0100
TZOFFSETTO:+0000
TZNAME:GMT
DTSTART:20261025T010000
END:STANDARD
END:VTIMEZONE
BEGIN:VEVENT
DTSTART;TZID=Europe/London:20251010T183000
DTEND;TZID=Europe/London:20251010T235900
DTSTAMP:20260425T175618
CREATED:20241026T130120Z
LAST-MODIFIED:20250915T171013Z
UID:10000308-1760121000-1760140740@cheshiregolf.org.uk
SUMMARY:Cheshire Golf Annual Dinner
DESCRIPTION:Link to County Dinner event page
URL:https://cheshiregolf.org.uk/event/cheshire-golf-annual-dinner/
LOCATION:Chester Racecourse\, The Racecourse\, Chester\, Cheshire West and Chester\, CH1 2LY\, United Kingdom
CATEGORIES:Social
ORGANIZER;CN="County Secretary":MAILTO:secretary@cheshiregolf.org.uk
GEO:53.1888709;-2.8976038
X-APPLE-STRUCTURED-LOCATION;VALUE=URI;X-ADDRESS=Chester Racecourse The Racecourse Chester Cheshire West and Chester CH1 2LY United Kingdom;X-APPLE-RADIUS=500;X-TITLE=The Racecourse:geo:-2.8976038,53.1888709
END:VEVENT
END:VCALENDAR